BEGIN:VCALENDAR
PRODID:-//github.com/ical-org/ical.net//NONSGML ical.net 4.0//EN
VERSION:2.0
BEGIN:VTIMEZONE
TZID:America/New_York
X-LIC-LOCATION:America/New_York
BEGIN:STANDARD
DTSTART:20241103T020000
RRULE:FREQ=YEARLY;BYDAY=1SU;BYMONTH=11
TZNAME:EST
TZOFFSETFROM:-0400
TZOFFSETTO:-0500
END:STANDARD
BEGIN:DAYLIGHT
DTSTART:20250309T020000
RRULE:FREQ=YEARLY;BYDAY=2SU;BYMONTH=3
TZNAME:EDT
TZOFFSETFROM:-0500
TZOFFSETTO:-0400
END:DAYLIGHT
END:VTIMEZONE
BEGIN:VEVENT
DESCRIPTION:The talk will be presented by Elisabete Weiderpass Vainio\, MD
 \, MSc\, PhD\, Director\, International Agency for Research on Cancer Wor
 ld Health Organization.\n\nSpeaker:\nElisabete Weiderpass Vainio\, MD\, M
 Sc\, PhD\n\nAdmission:\nFree\n\nDetails URL:\nhttps://medicine.yale.edu/e
 vent/yale-superfund-research-center-seminar/\n
DTEND;TZID=America/New_York:20250423T125000
DTSTAMP:20260408T182316Z
DTSTART;TZID=America/New_York:20250423T120000
LOCATION:We will also meet on Zoom.\, URL: https://yale.zoom.us/j/92486989
 247
SEQUENCE:0
STATUS:Confirmed
SUMMARY:Yale Superfund Research Center Seminar
UID:6826b0c1-db86-4257-9ace-f37e95cb66dd
END:VEVENT
END:VCALENDAR
