BEGIN:VCALENDAR
PRODID:-//github.com/ical-org/ical.net//NONSGML ical.net 4.0//EN
VERSION:2.0
BEGIN:VTIMEZONE
TZID:America/New_York
X-LIC-LOCATION:America/New_York
BEGIN:STANDARD
DTSTART:20241103T020000
RRULE:FREQ=YEARLY;BYDAY=1SU;BYMONTH=11
TZNAME:EST
TZOFFSETFROM:-0400
TZOFFSETTO:-0500
END:STANDARD
BEGIN:DAYLIGHT
DTSTART:20250309T020000
RRULE:FREQ=YEARLY;BYDAY=2SU;BYMONTH=3
TZNAME:EDT
TZOFFSETFROM:-0500
TZOFFSETTO:-0400
END:DAYLIGHT
END:VTIMEZONE
BEGIN:VEVENT
DESCRIPTION:Registration is required. Click here to register. This 30-minu
 te session will get you started with the free citation management softwar
 e Zotero. It's great for keeping track of documents you want to read\; it
  also inserts formatted citations into your manuscripts and term papers. 
 By the end of the session\, you will have done all this: Installed Zotero
  on your computer Added the Zotero plugin to your web browsers (Chrome\, 
 Safari\, or Firefox) Added the Zotero plugin to your word processor (Word
  or Google Docs) Set up your Zotero account for syncing and sharing Added
  articles to your Zotero library\, with PDFs Inserted citations into a ma
 nuscript And you'll be able to keep doing it!\n\nSpeaker:\nKate Nyhan\n\n
 Admission:\nFree: Open\; Registration is required.\n\nDetails URL:\nhttps
 ://medicine.yale.edu/event/zotero-introduction-and-questions-online/\n
DTEND;TZID=America/New_York:20250421T124500
DTSTAMP:20260422T202051Z
DTSTART;TZID=America/New_York:20250421T001500
LOCATION:URL: https://schedule.yale.edu/event/14374928
SEQUENCE:0
STATUS:Confirmed
SUMMARY:Zotero: Introduction and Questions (Online)
UID:c50148b8-f52c-4e04-839d-5b150f077ab0
END:VEVENT
END:VCALENDAR
