BEGIN:VCALENDAR
PRODID:-//github.com/ical-org/ical.net//NONSGML ical.net 4.0//EN
VERSION:2.0
BEGIN:VTIMEZONE
TZID:America/New_York
X-LIC-LOCATION:America/New_York
BEGIN:STANDARD
DTSTART:20241103T020000
RRULE:FREQ=YEARLY;BYDAY=1SU;BYMONTH=11
TZNAME:EST
TZOFFSETFROM:-0400
TZOFFSETTO:-0500
END:STANDARD
BEGIN:DAYLIGHT
DTSTART:20250309T020000
RRULE:FREQ=YEARLY;BYDAY=2SU;BYMONTH=3
TZNAME:EDT
TZOFFSETFROM:-0500
TZOFFSETTO:-0400
END:DAYLIGHT
END:VTIMEZONE
BEGIN:VEVENT
DESCRIPTION:The YSPH Office of Communications invites YSPH faculty and sta
 ff to join our monthly social media office hours hosted by Kayla Steinber
 g\, YSPH’s digital and social media strategist. This is a fantastic oppor
 tunity to learn how to amplify your impact—from establishing an online pr
 esence to navigating the complexities of various social media platforms. 
 Whether you're starting from scratch or looking to refine your current ap
 proach\, we’re here to help. Sign up for one or more 15-minute time slots
 . We look forward to working together to enhance public health communicat
 ion and trust.\n\nAdmission:\nFree\n\nDetails URL:\nhttps://medicine.yale
 .edu/event/social-media-office-hours-for-ysph-faculty-and-staff-june2025/
 \n
DTEND;TZID=America/New_York:20250610T163000
DTSTAMP:20260325T035547Z
DTSTART;TZID=America/New_York:20250610T150000
LOCATION:URL: https://outlook.office.com/bookwithme/user/f0ba62ff218d456ab
 5620386d579d95a@yale.edu/meetingtype/2uDukUkRA0S2D4u9s3tx9A2?anonymous&ep
 =mlink
SEQUENCE:0
STATUS:Confirmed
SUMMARY:Social Media Office Hours for YSPH Faculty and Staff
UID:36a8b9e0-ca3d-47b1-8e4e-6f40926951c5
END:VEVENT
END:VCALENDAR
