BEGIN:VCALENDAR
PRODID:-//github.com/ical-org/ical.net//NONSGML ical.net 4.0//EN
VERSION:2.0
BEGIN:VTIMEZONE
TZID:America/New_York
X-LIC-LOCATION:America/New_York
BEGIN:STANDARD
DTSTART:20241103T020000
RRULE:FREQ=YEARLY;BYDAY=1SU;BYMONTH=11
TZNAME:EST
TZOFFSETFROM:-0400
TZOFFSETTO:-0500
END:STANDARD
BEGIN:DAYLIGHT
DTSTART:20250309T020000
RRULE:FREQ=YEARLY;BYDAY=2SU;BYMONTH=3
TZNAME:EDT
TZOFFSETFROM:-0500
TZOFFSETTO:-0400
END:DAYLIGHT
END:VTIMEZONE
BEGIN:VEVENT
DESCRIPTION:The Yale Message Team invites authorized Yale Message users to
  office hours. Please bring any and all questions you have regarding your
  data extensions\, templates\, and anything else Yale Message-related. If
  you would like to be trained in Yale Message\, please submit a work requ
 est .\n\nAdmission:\nFree\n\nDetails URL:\nhttps://medicine.yale.edu/even
 t/yale-message-office-hours-41/\n
DTEND;TZID=America/New_York:20251217T140000
DTSTAMP:20260414T085847Z
DTSTART;TZID=America/New_York:20251217T130000
LOCATION:Please email Victoria Gorski for the Zoom link.
SEQUENCE:0
STATUS:Confirmed
SUMMARY:Yale Message Office Hours
UID:7b6c2a29-4db2-41d1-a072-2000d8aeee63
END:VEVENT
END:VCALENDAR
