BEGIN:VCALENDAR
PRODID:-//github.com/ical-org/ical.net//NONSGML ical.net 4.0//EN
VERSION:2.0
BEGIN:VTIMEZONE
TZID:America/New_York
X-LIC-LOCATION:America/New_York
BEGIN:STANDARD
DTSTART:20241103T020000
RRULE:FREQ=YEARLY;BYDAY=1SU;BYMONTH=11
TZNAME:EST
TZOFFSETFROM:-0400
TZOFFSETTO:-0500
END:STANDARD
BEGIN:DAYLIGHT
DTSTART:20250309T020000
RRULE:FREQ=YEARLY;BYDAY=2SU;BYMONTH=3
TZNAME:EDT
TZOFFSETFROM:-0500
TZOFFSETTO:-0400
END:DAYLIGHT
END:VTIMEZONE
BEGIN:VEVENT
DESCRIPTION:Registration is NOT required. Click here to view the event. Dr
 op in to online office hours to ask the public health librarian your ques
 tions. Topics: citations\, lit reviews\, finding data\, critical appraisa
 l\, publishing\, accessing books and newspapers…. Any library question at
  all! Get the Zoom link: https://library.medicine.yale.edu/ysph-librarian
 -office-hours\n\nSpeaker:\nKate Nyhan\n\nAdmission:\nFree: Open\; Registr
 ation is NOT required.\n\nDetails URL:\nhttps://medicine.yale.edu/event/p
 ublic-health-online-12/\n
DTEND;TZID=America/New_York:20250530T110000
DTSTAMP:20260420T015048Z
DTSTART;TZID=America/New_York:20250530T100000
SEQUENCE:0
STATUS:Confirmed
SUMMARY:Public Health Ask-A-Librarian Hours (Online)
UID:69b4e076-0ffe-4162-bee3-ffe698804e27
END:VEVENT
END:VCALENDAR
