BEGIN:VCALENDAR
PRODID:-//github.com/ical-org/ical.net//NONSGML ical.net 4.0//EN
VERSION:2.0
BEGIN:VTIMEZONE
TZID:America/New_York
X-LIC-LOCATION:America/New_York
BEGIN:STANDARD
DTSTART:20241103T020000
RRULE:FREQ=YEARLY;BYDAY=1SU;BYMONTH=11
TZNAME:EST
TZOFFSETFROM:-0400
TZOFFSETTO:-0500
END:STANDARD
BEGIN:DAYLIGHT
DTSTART:20250309T020000
RRULE:FREQ=YEARLY;BYDAY=2SU;BYMONTH=3
TZNAME:EDT
TZOFFSETFROM:-0500
TZOFFSETTO:-0400
END:DAYLIGHT
END:VTIMEZONE
BEGIN:VEVENT
DESCRIPTION:\nSpeaker:\nSetareh A. Williams\, PhD\, CMPP\n\nAdmission:\nFr
 ee\n\nDetails URL:\nhttps://medicine.yale.edu/event/ysphcde-526-seminar-t
 he-use-of-real-world-data-in-regulatory-applications/\n
DTEND;TZID=America/New_York:20250325T130000
DTSTAMP:20260423T071300Z
DTSTART;TZID=America/New_York:20250325T120000
GEO:41.303666;-72.932218
LOCATION:Yale School of Public Health (LEPH)\, 115\, 60 College Street\, N
 ew Haven\, CT\, United States
SEQUENCE:0
STATUS:Confirmed
SUMMARY:YSPH/CDE 526 Seminar: "The Use of Real-World Data in Regulatory Ap
 plications"
UID:0ca48480-7b13-470b-8b3a-88415541a439
END:VEVENT
END:VCALENDAR
