BEGIN:VCALENDAR
PRODID:-//github.com/ical-org/ical.net//NONSGML ical.net 4.0//EN
VERSION:2.0
BEGIN:VTIMEZONE
TZID:America/New_York
X-LIC-LOCATION:America/New_York
BEGIN:STANDARD
DTSTART:20241103T020000
RRULE:FREQ=YEARLY;BYDAY=1SU;BYMONTH=11
TZNAME:EST
TZOFFSETFROM:-0400
TZOFFSETTO:-0500
END:STANDARD
BEGIN:DAYLIGHT
DTSTART:20250309T020000
RRULE:FREQ=YEARLY;BYDAY=2SU;BYMONTH=3
TZNAME:EDT
TZOFFSETFROM:-0500
TZOFFSETTO:-0400
END:DAYLIGHT
END:VTIMEZONE
BEGIN:VEVENT
DESCRIPTION:Please join\, Jen Farkas\, Director of Financial Aid\, for an 
 overview of the financial aid process for the Executive MPH Program.Topic
 s covered will include school sponsored scholarships\,applying for loans 
 and searching for external funding.\n\nAdmission:\nFree\n\nDetails URL:\n
 https://medicine.yale.edu/event/executive-mph-open-house-financial-aid/\n
DTEND;TZID=America/New_York:20241121T220000
DTSTAMP:20260422T003205Z
DTSTART;TZID=America/New_York:20241121T210000
LOCATION:URL: https://yale.zoom.us/j/95602615527
SEQUENCE:0
STATUS:Confirmed
SUMMARY:Executive MPH Open House: Learn about Financial Aid and Scholarshi
 p Opportunities with YSPH’s Director of Financial Aid
UID:f78fae85-c01b-47bf-9034-b49098485243
END:VEVENT
END:VCALENDAR
