BEGIN:VCALENDAR
PRODID:-//github.com/ical-org/ical.net//NONSGML ical.net 4.0//EN
VERSION:2.0
BEGIN:VTIMEZONE
TZID:America/New_York
X-LIC-LOCATION:America/New_York
BEGIN:STANDARD
DTSTART:20241103T020000
RRULE:FREQ=YEARLY;BYDAY=1SU;BYMONTH=11
TZNAME:EST
TZOFFSETFROM:-0400
TZOFFSETTO:-0500
END:STANDARD
BEGIN:DAYLIGHT
DTSTART:20250309T020000
RRULE:FREQ=YEARLY;BYDAY=2SU;BYMONTH=3
TZNAME:EDT
TZOFFSETFROM:-0500
TZOFFSETTO:-0400
END:DAYLIGHT
END:VTIMEZONE
BEGIN:VEVENT
DESCRIPTION:Chat with representatives from the Yale School of Public Healt
 h's MPH and PhD Programs during the virtual This is Public Health Graduat
 e School Fair. We look forward to answering your questions from 12:00 - 3
 :00 PM\, ET.\n\nAdmission:\nFree\n\nDetails URL:\nhttps://medicine.yale.e
 du/event/this-is-public-health-virtual-fairnov19/\n
DTEND;TZID=America/New_York:20241119T150000
DTSTAMP:20260421T042345Z
DTSTART;TZID=America/New_York:20241119T120000
LOCATION:URL: https://www.careereco.com/Fair/EventDetails?fairId=37e57682-
 1e1d-40fa-a751-b10601466ece
SEQUENCE:0
STATUS:Confirmed
SUMMARY:This is Public Health Virtual Fair
UID:056bc81b-804b-4af4-9c1a-9f2d832c4608
END:VEVENT
END:VCALENDAR
