BEGIN:VCALENDAR
PRODID:-//github.com/ical-org/ical.net//NONSGML ical.net 4.0//EN
VERSION:2.0
BEGIN:VTIMEZONE
TZID:America/New_York
X-LIC-LOCATION:America/New_York
BEGIN:STANDARD
DTSTART:20241103T020000
RRULE:FREQ=YEARLY;BYDAY=1SU;BYMONTH=11
TZNAME:EST
TZOFFSETFROM:-0400
TZOFFSETTO:-0500
END:STANDARD
BEGIN:DAYLIGHT
DTSTART:20250309T020000
RRULE:FREQ=YEARLY;BYDAY=2SU;BYMONTH=3
TZNAME:EDT
TZOFFSETFROM:-0500
TZOFFSETTO:-0400
END:DAYLIGHT
END:VTIMEZONE
BEGIN:VEVENT
DESCRIPTION:Faculty in the Department of Environmental Health Sciences wil
 l be joining the Office of Admissions to speak with prospective students 
 about the department. Led by Professor Zeyan Liew\, this event will provi
 de the opportunity for prospective students to learn more about the MPH E
 HS curriculum\, areas of faculty focus and more! Please join the session 
 at: https://yale.zoom.us/j/91707686045\n\nAdmission:\nFree\n\nDetails URL
 :\nhttps://medicine.yale.edu/event/environmental-health-sciences-faculty-
 chat-for-mph-applicants/\n
DTEND;TZID=America/New_York:20241121T130000
DTSTAMP:20260328T025703Z
DTSTART;TZID=America/New_York:20241121T120000
LOCATION:URL: https://yale.zoom.us/j/91707686045
SEQUENCE:0
STATUS:Confirmed
SUMMARY:Environmental Health Sciences Faculty Chat for MPH Applicants
UID:221345a6-1910-4467-a85c-8de594d6233e
END:VEVENT
END:VCALENDAR
