BEGIN:VCALENDAR
PRODID:-//github.com/ical-org/ical.net//NONSGML ical.net 4.0//EN
VERSION:2.0
BEGIN:VTIMEZONE
TZID:America/New_York
X-LIC-LOCATION:America/New_York
BEGIN:STANDARD
DTSTART:20241103T020000
RRULE:FREQ=YEARLY;BYDAY=1SU;BYMONTH=11
TZNAME:EST
TZOFFSETFROM:-0400
TZOFFSETTO:-0500
END:STANDARD
BEGIN:DAYLIGHT
DTSTART:20250309T020000
RRULE:FREQ=YEARLY;BYDAY=2SU;BYMONTH=3
TZNAME:EDT
TZOFFSETFROM:-0500
TZOFFSETTO:-0400
END:DAYLIGHT
END:VTIMEZONE
BEGIN:VEVENT
DESCRIPTION:Have questions about the APE or EPH500? Join OPHP for a virtua
 l office hour to get some answers!\n\nAdmission:\nFree\n\nDetails URL:\nh
 ttps://medicine.yale.edu/event/ophp-virtual-office-hour/\n
DTEND;TZID=America/New_York:20241114T121500
DTSTAMP:20260402T010925Z
DTSTART;TZID=America/New_York:20241114T120000
LOCATION:Zoom office hour\, URL: https://yale.zoom.us/j/95735109651?from=a
 ddon
SEQUENCE:0
STATUS:Confirmed
SUMMARY:OPHP Virtual Office Hour
UID:281a6f2c-764d-4138-b373-e9eec710b095
END:VEVENT
END:VCALENDAR
