BEGIN:VCALENDAR
PRODID:-//github.com/ical-org/ical.net//NONSGML ical.net 4.0//EN
VERSION:2.0
BEGIN:VTIMEZONE
TZID:America/New_York
X-LIC-LOCATION:America/New_York
BEGIN:STANDARD
DTSTART:20241103T020000
RRULE:FREQ=YEARLY;BYDAY=1SU;BYMONTH=11
TZNAME:EST
TZOFFSETFROM:-0400
TZOFFSETTO:-0500
END:STANDARD
BEGIN:DAYLIGHT
DTSTART:20250309T020000
RRULE:FREQ=YEARLY;BYDAY=2SU;BYMONTH=3
TZNAME:EDT
TZOFFSETFROM:-0500
TZOFFSETTO:-0400
END:DAYLIGHT
END:VTIMEZONE
BEGIN:VEVENT
DESCRIPTION:\nSpeaker:\nDylan George\, PhD\n\nAdmission:\nFree\n\nFood:\nL
 unch: Lunch will be distributed for those enrolled in Seminar.\n\nDetails
  URL:\nhttps://medicine.yale.edu/event/center-for-forecasting-and-outbrea
 k-analysis/\n
DTEND;TZID=America/New_York:20241007T130000
DTSTAMP:20260414T070213Z
DTSTART;TZID=America/New_York:20241007T120000
GEO:41.302961;-72.931638
LOCATION:106A\, 47 College Street\, New Haven\, CT\, United States
SEQUENCE:0
STATUS:Confirmed
SUMMARY:Seminar in Public Health Modeling
UID:7333f40c-76bf-4a65-a0b1-c3318d0dc238
END:VEVENT
END:VCALENDAR
