BEGIN:VCALENDAR
PRODID:-//github.com/ical-org/ical.net//NONSGML ical.net 4.0//EN
VERSION:2.0
BEGIN:VTIMEZONE
TZID:America/New_York
X-LIC-LOCATION:America/New_York
BEGIN:STANDARD
DTSTART:20241103T020000
RRULE:FREQ=YEARLY;BYDAY=1SU;BYMONTH=11
TZNAME:EST
TZOFFSETFROM:-0400
TZOFFSETTO:-0500
END:STANDARD
BEGIN:DAYLIGHT
DTSTART:20250309T020000
RRULE:FREQ=YEARLY;BYDAY=2SU;BYMONTH=3
TZNAME:EDT
TZOFFSETFROM:-0500
TZOFFSETTO:-0400
END:DAYLIGHT
END:VTIMEZONE
BEGIN:VEVENT
DESCRIPTION:The SAS/R/PYTHON Tutor Office Hours are resource for YSPH stud
 ents in need of help with SAS\, R and Python statistical software. Consul
 tations are 15-20 minutes\, please respect this to ensure as many student
 s as possible receive assistance.\n\nAdmission:\nFree\n\nDetails URL:\nht
 tps://medicine.yale.edu/event/sasrpython-tutor-fri-fa24-8/\n
DTEND;TZID=America/New_York:20241115T123000
DTSTAMP:20260412T111747Z
DTSTART;TZID=America/New_York:20241115T083000
LOCATION:URL: https://yale.zoom.us/j/94762823333
SEQUENCE:0
STATUS:Confirmed
SUMMARY:SAS/R/Python Tutor Office Hours
UID:3593aa4a-1f1e-48d6-b7b4-7326d0ecd99c
END:VEVENT
END:VCALENDAR
