BEGIN:VCALENDAR
PRODID:-//github.com/ical-org/ical.net//NONSGML ical.net 4.0//EN
VERSION:2.0
BEGIN:VTIMEZONE
TZID:America/New_York
X-LIC-LOCATION:America/New_York
BEGIN:STANDARD
DTSTART:20241103T020000
RRULE:FREQ=YEARLY;BYDAY=1SU;BYMONTH=11
TZNAME:EST
TZOFFSETFROM:-0400
TZOFFSETTO:-0500
END:STANDARD
BEGIN:DAYLIGHT
DTSTART:20250309T020000
RRULE:FREQ=YEARLY;BYDAY=2SU;BYMONTH=3
TZNAME:EDT
TZOFFSETFROM:-0500
TZOFFSETTO:-0400
END:DAYLIGHT
END:VTIMEZONE
BEGIN:VEVENT
DESCRIPTION:Movie Screening of Human Forever with Dinner and discussion at
  Winslow Auditorium. The Yale School of Public Health\, LiveWell Institut
 e\, and Empowering Partnerships welcome Human Forever\, an award-winning 
 documentary\, to the U.S. for the first time. Screening: 5:00pm - 6:30pm 
 Dinner and Discussions: 6:30pm - 8:00pm Following the film\, we invite yo
 u for dinner and discussions about a Dementia Positive movement with peop
 le with lived experience\, the author activist\, and filmmakers.\n\nAdmis
 sion:\nFree\n\nFood:\nDinner\n\nDetails URL:\nhttps://medicine.yale.edu/e
 vent/human-forever/\n
DTEND;TZID=America/New_York:20241028T183000
DTSTAMP:20260420T005449Z
DTSTART;TZID=America/New_York:20241028T170000
GEO:41.303666;-72.932218
LOCATION:Yale School of Public Health (LEPH)\, Winslow\, 60 College Street
 \, New Haven\, CT\, United States
SEQUENCE:0
STATUS:Confirmed
SUMMARY:YSPH-SBS Presents: "Human Forever: A Story About Love For Humanity"
UID:491e3b60-36fd-401f-aba7-4db357087e4f
END:VEVENT
END:VCALENDAR
