BEGIN:VCALENDAR
PRODID:-//github.com/ical-org/ical.net//NONSGML ical.net 4.0//EN
VERSION:2.0
BEGIN:VTIMEZONE
TZID:America/New_York
X-LIC-LOCATION:America/New_York
BEGIN:STANDARD
DTSTART:20241103T020000
RRULE:FREQ=YEARLY;BYDAY=1SU;BYMONTH=11
TZNAME:EST
TZOFFSETFROM:-0400
TZOFFSETTO:-0500
END:STANDARD
BEGIN:DAYLIGHT
DTSTART:20250309T020000
RRULE:FREQ=YEARLY;BYDAY=2SU;BYMONTH=3
TZNAME:EDT
TZOFFSETFROM:-0500
TZOFFSETTO:-0400
END:DAYLIGHT
END:VTIMEZONE
BEGIN:VEVENT
DESCRIPTION:Are you interested in learning about teaching strategies and r
 esources specifically curated for instructors in the School of Public Hea
 lth? In this workshop\, we will discuss approaches to teaching your peers
 \, the importance of establishing and maintaining boundaries with your st
 udents and lead professors\, and methods to engage students in discussion
  sections and office hours. We will also focus on creating inclusive\, eq
 uitable\, and accessible learning environments. This session will utilize
  case-studies to explore a variety of scenarios you may encounter during 
 your teaching assignment. Throughout the workshop\, you will have opportu
 nities to discuss your ideas and ask questions specific to your respectiv
 e classrooms. We will conclude the workshop with an overview of resources
  available not only through YSPH\, but also the Poorvu Center for Teachin
 g and Learning. If you were not able to attend the Teaching@Yale Day\, pa
 rticipation is this workshop fulfills the training requirement. September
  23rd @ 5-7pm in 106B- dinner provided! For more information about the wo
 rkshop\, feel free to reach out to Whitney Denary (whitney.denary@yale.ed
 u).\n\nAdmission:\nFree: For current and prospective Teaching Fellows @ Y
 SPH\n\nFood:\nDinner\n\nDetails URL:\nhttps://medicine.yale.edu/event/ysp
 h-teaching-fellow-workshop/\n
DTEND;TZID=America/New_York:20240923T190000
DTSTAMP:20260411T214324Z
DTSTART;TZID=America/New_York:20240923T170000
GEO:41.302961;-72.931638
LOCATION:106B\, 47 College Street\, New Haven\, CT\, United States
SEQUENCE:0
STATUS:Confirmed
SUMMARY:YSPH Teaching Fellow Workshop
UID:9298e337-a55b-4365-9a9f-9256d59e699d
END:VEVENT
END:VCALENDAR
