BEGIN:VCALENDAR
PRODID:-//github.com/ical-org/ical.net//NONSGML ical.net 4.0//EN
VERSION:2.0
BEGIN:VTIMEZONE
TZID:America/New_York
X-LIC-LOCATION:America/New_York
BEGIN:STANDARD
DTSTART:20241103T020000
RRULE:FREQ=YEARLY;BYDAY=1SU;BYMONTH=11
TZNAME:EST
TZOFFSETFROM:-0400
TZOFFSETTO:-0500
END:STANDARD
BEGIN:DAYLIGHT
DTSTART:20250309T020000
RRULE:FREQ=YEARLY;BYDAY=2SU;BYMONTH=3
TZNAME:EDT
TZOFFSETFROM:-0500
TZOFFSETTO:-0400
END:DAYLIGHT
END:VTIMEZONE
BEGIN:VEVENT
DESCRIPTION:Dr. Tony G. Reames is the Tishman Professor of Environmental J
 ustice and an associate professor at the University of Michigan School fo
 r Environment and Sustainability where he founded the Urban Energy Justic
 e Lab and the Energy Equity Project. He is Director of the Detroit Sustai
 nability Clinic providing sustainability and climate action technical ass
 istance for local communities and governments. His research investigates 
 the fair and equitable access to affordable\, reliable\, clean energy\, a
 nd explores the production and persistence of energy disparities across r
 ace\, class\, and place. Reames was a Presidential appointee in the Biden
 -Harris Administration from 2021 to 2023 at the US Department of Energy. 
 He was Deputy Director for Energy Justice\, establishing the Department o
 f Energy’s first-ever Office of Energy Justice Policy and Analysis\, and 
 the Principal Deputy Director for the State and Community Energy Programs
 . He holds a Doctor of Philosophy in Public Administration from the Unive
 rsity of Kansas\, a Master of Engineering Management from Kansas State Un
 iversity\, and a Bachelor of Science in Civil Engineering from North Caro
 lina Agricultural & Technical State University.\n\nSpeaker:\nTony G. Ream
 es\, PhD\, MS\n\nAdmission:\nFree\n\nFood:\nLunch\n\nDetails URL:\nhttps:
 //medicine.yale.edu/event/cch-seminar-tonyreames/\n
DTEND;TZID=America/New_York:20241028T130000
DTSTAMP:20260421T133016Z
DTSTART;TZID=America/New_York:20241028T120000
LOCATION:URL: https://bit.ly/ReamesSeminar2024
SEQUENCE:0
STATUS:Confirmed
SUMMARY:YSPH Climate Change and Health Seminar with Dr. Tony G. Reames\, "
 Interconnected Futures: Exploring the Nexus of Climate Change\, Health\, 
 and Energy Justice"
UID:97f5e5ec-e90a-4e44-a54a-deda957fade1
END:VEVENT
END:VCALENDAR
