BEGIN:VCALENDAR
PRODID:-//github.com/ical-org/ical.net//NONSGML ical.net 4.0//EN
VERSION:2.0
BEGIN:VTIMEZONE
TZID:America/New_York
X-LIC-LOCATION:America/New_York
BEGIN:STANDARD
DTSTART:20241103T020000
RRULE:FREQ=YEARLY;BYDAY=1SU;BYMONTH=11
TZNAME:EST
TZOFFSETFROM:-0400
TZOFFSETTO:-0500
END:STANDARD
BEGIN:DAYLIGHT
DTSTART:20250309T020000
RRULE:FREQ=YEARLY;BYDAY=2SU;BYMONTH=3
TZNAME:EDT
TZOFFSETFROM:-0500
TZOFFSETTO:-0400
END:DAYLIGHT
END:VTIMEZONE
BEGIN:VEVENT
DESCRIPTION:Elizabeth Yeampierre is an internationally recognized Puerto R
 ican environmental/climate justice leader of Black and Indigenous ancestr
 y\, born and raised in New York City. Elizabeth is co-chair of the Climat
 e Justice Alliance\, a national frontline led organization and Executive 
 Director of UPROSE\, Brooklyn's oldest Latino community-based organizatio
 n. Elizabeth was the 1st Latina Chair of the USEPA National Environmental
  Justice Advisory Council and opening speaker for the first White House C
 ouncil on Environmental Quality Forum on Environmental Justice under Obam
 a. Elizabeth has been featured in the NY Times as a visionary paving the 
 path to Climate Justice. She was named by Apolitical as Climate 100: The 
 World’s Most Influential People in Climate Policy \, also featured in Vog
 ue as one of 13 Climate Warriors in the world\, Oprah’s list of Future Ri
 sing and a recipient of the Frederick Douglass Abolitionist Award FD200. 
 Recently\, she has spoken at Oxford University\, the Ethos Conference in 
 Brazil and the Hague.\n\nAdmission:\nFree\n\nFood:\nLunch\n\nDetails URL:
 \nhttps://medicine.yale.edu/event/cch-seminar-elizabeth-yeampierre/\n
DTEND;TZID=America/New_York:20240119T130000
DTSTAMP:20260420T111447Z
DTSTART;TZID=America/New_York:20240119T120000
LOCATION:URL: https://bit.ly/2024YeampierreSeminar
SEQUENCE:0
STATUS:Confirmed
SUMMARY:YSPH Climate Change and Health Seminar with Elizabeth Yeampierre\,
  "Climate Justice: Frontline Solutions in the Midst of Disruption"
UID:28e6b51a-c04b-4303-a3af-973e52244ed1
END:VEVENT
END:VCALENDAR
