BEGIN:VCALENDAR
PRODID:-//github.com/ical-org/ical.net//NONSGML ical.net 4.0//EN
VERSION:2.0
BEGIN:VTIMEZONE
TZID:America/New_York
X-LIC-LOCATION:America/New_York
BEGIN:STANDARD
DTSTART:20241103T020000
RRULE:FREQ=YEARLY;BYDAY=1SU;BYMONTH=11
TZNAME:EST
TZOFFSETFROM:-0400
TZOFFSETTO:-0500
END:STANDARD
BEGIN:DAYLIGHT
DTSTART:20250309T020000
RRULE:FREQ=YEARLY;BYDAY=2SU;BYMONTH=3
TZNAME:EDT
TZOFFSETFROM:-0500
TZOFFSETTO:-0400
END:DAYLIGHT
END:VTIMEZONE
BEGIN:VEVENT
DESCRIPTION:Family caregivers spend a great deal of time caring for family
  and friends. Sending a note of thanks and appreciation can make a differ
 ence for your family members\, friends and coworkers who are caring for o
 thers. Stop by the Student lounge and make a note of thanks! Materials (a
 nd stamps) supplied. All YSPH students\, staff and faculty welcome! (no r
 egistration needed) Wednesday\, November 29th Student Lounge – 47 College
  St.3 – 6 pm\n\nAdmission:\nFree\n\nDetails URL:\nhttps://medicine.yale.e
 du/event/care-for-those-who-care/\n
DTEND;TZID=America/New_York:20231129T180000
DTSTAMP:20260415T114436Z
DTSTART;TZID=America/New_York:20231129T150000
GEO:41.302961;-72.931638
LOCATION:Student Lounge\, 47 College Street\, New Haven\, CT\, United Stat
 es
SEQUENCE:0
STATUS:Confirmed
SUMMARY:Care For Those Who Care
UID:a4c506dd-bcd9-421b-971c-91a0223ab9b4
END:VEVENT
END:VCALENDAR
