BEGIN:VCALENDAR
PRODID:-//github.com/ical-org/ical.net//NONSGML ical.net 4.0//EN
VERSION:2.0
BEGIN:VTIMEZONE
TZID:America/New_York
X-LIC-LOCATION:America/New_York
BEGIN:STANDARD
DTSTART:20241103T020000
RRULE:FREQ=YEARLY;BYDAY=1SU;BYMONTH=11
TZNAME:EST
TZOFFSETFROM:-0400
TZOFFSETTO:-0500
END:STANDARD
BEGIN:DAYLIGHT
DTSTART:20250309T020000
RRULE:FREQ=YEARLY;BYDAY=2SU;BYMONTH=3
TZNAME:EDT
TZOFFSETFROM:-0500
TZOFFSETTO:-0400
END:DAYLIGHT
END:VTIMEZONE
BEGIN:VEVENT
DESCRIPTION:Session: APHA Past President's Session: Case Studies in Ethica
 l Challenges Facing American Public Health Program: APHA Time: 8:30 - 8:4
 5 Presenter: Linda Degutis\, DrPH\, MSN\n\nSpeaker:\nLinda Degutis\n\nAdm
 ission:\nRegistrationFees: APHA Event Registration is Required\n\nDetails
  URL:\nhttps://medicine.yale.edu/event/40032-case-a-public-health-ethics-
 and-the-public-health-approach-to-preventing-firearm-violence/\n
DTEND;TZID=America/New_York:20231114T084500
DTSTAMP:20260411T133849Z
DTSTART;TZID=America/New_York:20231114T083000
GEO:33.759603;-84.396873
LOCATION:285 Andrew Young International Boulevard Northwest\, Atlanta\, GA
 \, United States
SEQUENCE:0
STATUS:Confirmed
SUMMARY:4003.2 Case A: Public health ethics and the public health approach
  to preventing firearm violence
UID:c1dbfa61-99e4-4c01-92cb-e0f2c9d1ce4e
END:VEVENT
END:VCALENDAR
