BEGIN:VCALENDAR
PRODID:-//github.com/ical-org/ical.net//NONSGML ical.net 4.0//EN
VERSION:2.0
BEGIN:VTIMEZONE
TZID:America/New_York
X-LIC-LOCATION:America/New_York
BEGIN:STANDARD
DTSTART:20241103T020000
RRULE:FREQ=YEARLY;BYDAY=1SU;BYMONTH=11
TZNAME:EST
TZOFFSETFROM:-0400
TZOFFSETTO:-0500
END:STANDARD
BEGIN:DAYLIGHT
DTSTART:20250309T020000
RRULE:FREQ=YEARLY;BYDAY=2SU;BYMONTH=3
TZNAME:EDT
TZOFFSETFROM:-0500
TZOFFSETTO:-0400
END:DAYLIGHT
END:VTIMEZONE
BEGIN:VEVENT
DESCRIPTION:Tsetse flies transmit devastating diseases in Africa that impa
 ct human and animal health. Given that there are no vaccines to prevent m
 ammalian infections\, reducing the tsetse populations has been an effecti
 ve to block disease. Aksoy’s research has helped develop interdisciplinar
 y approaches to understand critical determinants of disease transmission 
 ranging from research on tsetse and trypanosome biology\; to population g
 enetics of tsetse\, symbionts\, and trypanosomes\; to disease epidemiolog
 y in Africa. Her research provided seminal information on tsetse physiolo
 gy and tsetse's obligate symbiosis with microbes\, and collectively ident
 ified multiple molecular targets to reduce tsetse populations. Her recent
  studies on trypanosome development processes focus on the development of
  transmission blocking approaches to curb disease at the mammalian bite s
 ite. She led an international consortium to obtain the genome sequence of
  tsetse flies\, which vastly expanded functional studies on this neglecte
 d vector and helped build scientific capacity in disease endemic laborato
 ries in Africa. YSPH values inclusion and access for all participants. If
  you have questions about accessibility or would like to request an accom
 modation\, please contact Maria Reilly at maria.reilly@yale.edu .\n\nSpea
 ker:\nSerap Aksoy\n\nAdmission:\nFree\n\nFood:\n\n\nDetails URL:\nhttps:/
 /medicine.yale.edu/event/emd-seminar-series-23/\n
DTEND;TZID=America/New_York:20240124T130000
DTSTAMP:20260415T000957Z
DTSTART;TZID=America/New_York:20240124T120000
GEO:41.303666;-72.932218
LOCATION:Yale School of Public Health (LEPH)\, Winslow Auditorium\, 60 Col
 lege Street\, New Haven\, CT\, United States
SEQUENCE:0
STATUS:Confirmed
SUMMARY:EMD Seminar Series: Serap Aksoy\, "Innovative methods to combat Ts
 etse fly transmitted Africa Trypanosomiasis"
UID:54551776-21b9-4cdc-93ed-098f10ef1262
END:VEVENT
END:VCALENDAR
