BEGIN:VCALENDAR
PRODID:-//github.com/ical-org/ical.net//NONSGML ical.net 4.0//EN
VERSION:2.0
BEGIN:VTIMEZONE
TZID:America/New_York
X-LIC-LOCATION:America/New_York
BEGIN:STANDARD
DTSTART:20241103T020000
RRULE:FREQ=YEARLY;BYDAY=1SU;BYMONTH=11
TZNAME:EST
TZOFFSETFROM:-0400
TZOFFSETTO:-0500
END:STANDARD
BEGIN:DAYLIGHT
DTSTART:20250309T020000
RRULE:FREQ=YEARLY;BYDAY=2SU;BYMONTH=3
TZNAME:EDT
TZOFFSETFROM:-0500
TZOFFSETTO:-0400
END:DAYLIGHT
END:VTIMEZONE
BEGIN:VEVENT
DESCRIPTION:Join us at 135 College St Suite 200 for drop in office hours w
 ith YSPH's OPHP to ask any questions you may have about the internship an
 d APE.\n\nAdmission:\nFree\n\nDetails URL:\nhttps://medicine.yale.edu/eve
 nt/drop-in-qanda-for-office-of-public-health-practice-8/\n
DTEND;TZID=America/New_York:20240412T130000
DTSTAMP:20260420T185804Z
DTSTART;TZID=America/New_York:20240412T120000
GEO:41.304550;-72.930313
LOCATION:135 College Street\, New Haven\, CT\, United States
SEQUENCE:0
STATUS:Confirmed
SUMMARY:Drop in Q&A for Office of Public Health Practice
UID:b81ef5ff-91ed-4a01-bfcf-3f10e57abf29
END:VEVENT
END:VCALENDAR
