BEGIN:VCALENDAR
PRODID:-//github.com/ical-org/ical.net//NONSGML ical.net 4.0//EN
VERSION:2.0
BEGIN:VTIMEZONE
TZID:America/New_York
X-LIC-LOCATION:America/New_York
BEGIN:STANDARD
DTSTART:20241103T020000
RRULE:FREQ=YEARLY;BYDAY=1SU;BYMONTH=11
TZNAME:EST
TZOFFSETFROM:-0400
TZOFFSETTO:-0500
END:STANDARD
BEGIN:DAYLIGHT
DTSTART:20250309T020000
RRULE:FREQ=YEARLY;BYDAY=2SU;BYMONTH=3
TZNAME:EDT
TZOFFSETFROM:-0500
TZOFFSETTO:-0400
END:DAYLIGHT
END:VTIMEZONE
BEGIN:VEVENT
DESCRIPTION:Join admissions representatives from Columbia\, Harvard\, John
 s Hopkins and Yale Schools of Public Health to learn more about our schoo
 ls and programs during this virtual presentation. We hope that you will j
 oin us! Please register at: https://jh.zoom.us/webinar/register/WN_T9zdBt
 m-S2ycWrRCQi5gcg\n\nAdmission:\nFree\n\nDetails URL:\nhttps://medicine.ya
 le.edu/event/jointinformationsession/\n
DTEND;TZID=America/New_York:20230817T193000
DTSTAMP:20260325T114904Z
DTSTART;TZID=America/New_York:20230817T180000
LOCATION:URL: https://jh.zoom.us/webinar/register/WN_T9zdBtm-S2ycWrRCQi5gcg
SEQUENCE:0
STATUS:Confirmed
SUMMARY:Joint Information Session with Columbia\, Harvard\, Johns Hopkins 
 and Yale Schools of Public Health
UID:835d26c9-3b28-417c-aeae-2245c1eafe83
END:VEVENT
END:VCALENDAR
