BEGIN:VCALENDAR
PRODID:-//github.com/ical-org/ical.net//NONSGML ical.net 4.0//EN
VERSION:2.0
BEGIN:VTIMEZONE
TZID:America/New_York
X-LIC-LOCATION:America/New_York
BEGIN:STANDARD
DTSTART:20241103T020000
RRULE:FREQ=YEARLY;BYDAY=1SU;BYMONTH=11
TZNAME:EST
TZOFFSETFROM:-0400
TZOFFSETTO:-0500
END:STANDARD
BEGIN:DAYLIGHT
DTSTART:20250309T020000
RRULE:FREQ=YEARLY;BYDAY=2SU;BYMONTH=3
TZNAME:EDT
TZOFFSETFROM:-0500
TZOFFSETTO:-0400
END:DAYLIGHT
END:VTIMEZONE
BEGIN:VEVENT
DESCRIPTION:\nSpeaker:\nHeather Lipkind\n\nAdmission:\nFree\n\nDetails URL
 :\nhttps://medicine.yale.edu/event/cmips-mchp-seminar/\n
DTEND;TZID=America/New_York:20221121T130000
DTSTAMP:20260417T023118Z
DTSTART;TZID=America/New_York:20221121T120000
LOCATION:Location TBD
SEQUENCE:0
STATUS:Confirmed
SUMMARY:CMIPS Maternal and Child Health Promotion Program Seminar
UID:eccebd0d-6e4f-43bc-892a-a495334b80c4
END:VEVENT
END:VCALENDAR
