BEGIN:VCALENDAR
PRODID:-//github.com/ical-org/ical.net//NONSGML ical.net 4.0//EN
VERSION:2.0
BEGIN:VTIMEZONE
TZID:America/New_York
X-LIC-LOCATION:America/New_York
BEGIN:STANDARD
DTSTART:20241103T020000
RRULE:FREQ=YEARLY;BYDAY=1SU;BYMONTH=11
TZNAME:EST
TZOFFSETFROM:-0400
TZOFFSETTO:-0500
END:STANDARD
BEGIN:DAYLIGHT
DTSTART:20250309T020000
RRULE:FREQ=YEARLY;BYDAY=2SU;BYMONTH=3
TZNAME:EDT
TZOFFSETFROM:-0500
TZOFFSETTO:-0400
END:DAYLIGHT
END:VTIMEZONE
BEGIN:VEVENT
DESCRIPTION:\nSpeaker:\nVikram Patel\, PhD\, MBBS\n\nAdmission:\nFree\n\nD
 etails URL:\nhttps://medicine.yale.edu/event/center-for-methods-in-implem
 entation-and-prevention-science-cmips-global-mental-health-promotion/\n
DTEND;TZID=America/New_York:20210401T130000
DTSTAMP:20260420T224843Z
DTSTART;TZID=America/New_York:20210401T120000
LOCATION:Via Zoom.
SEQUENCE:0
STATUS:Confirmed
SUMMARY:Center for Methods in Implementation and Prevention Science (CMIPS
 ) Global Mental Health Promotion Program Seminar Series: “Reimagining Men
 tal Health Care in the US: Lessons from the Global South”
UID:e48d9b0b-78d3-4eac-8298-e53a74f9c294
END:VEVENT
END:VCALENDAR
