BEGIN:VCALENDAR
PRODID:-//github.com/ical-org/ical.net//NONSGML ical.net 4.0//EN
VERSION:2.0
BEGIN:VTIMEZONE
TZID:America/New_York
X-LIC-LOCATION:America/New_York
BEGIN:STANDARD
DTSTART:20241103T020000
RRULE:FREQ=YEARLY;BYDAY=1SU;BYMONTH=11
TZNAME:EST
TZOFFSETFROM:-0400
TZOFFSETTO:-0500
END:STANDARD
BEGIN:DAYLIGHT
DTSTART:20250309T020000
RRULE:FREQ=YEARLY;BYDAY=2SU;BYMONTH=3
TZNAME:EDT
TZOFFSETFROM:-0500
TZOFFSETTO:-0400
END:DAYLIGHT
END:VTIMEZONE
BEGIN:VEVENT
DESCRIPTION:\nSpeaker:\nCatherine Chantre\n\nAdmission:\nFree\n\nDetails U
 RL:\nhttps://medicine.yale.edu/event/ysph-phd-dissertation-presentation-c
 atherine-chantre-emd/\n
DTEND;TZID=America/New_York:20260410T140000
DTSTAMP:20260406T120615Z
DTSTART;TZID=America/New_York:20260410T130000
LOCATION:Please join us for Catherine Chantre (EMD) dissertation presentat
 ion on April 10\, 2026 at 1:00pm.  This is a hybrid presentation.  Please
  join us in LEPH 103 or via Zoom.  Catherine Chantre will be presenting h
 er research entitled:  "Conflict-Related Displacement Trauma\, Post-Migra
 tion Stressors\, and HIV Risk Among Internally Displaced Young Adults in 
 Northern Mozambique".  \, URL: https://yale.zoom.us/j/6044789156?pwd=YTh3
 RU1meHZjR1FKVlJrVnFMMWdHQT09
SEQUENCE:0
STATUS:Confirmed
SUMMARY:YSPH PhD Dissertation Presentation - Catherine Chantre (EMD)
UID:91e11b74-3897-4898-b939-f598870b0446
END:VEVENT
END:VCALENDAR
