BEGIN:VCALENDAR
PRODID:-//github.com/ical-org/ical.net//NONSGML ical.net 4.0//EN
VERSION:2.0
BEGIN:VTIMEZONE
TZID:America/New_York
X-LIC-LOCATION:America/New_York
BEGIN:STANDARD
DTSTART:20241103T020000
RRULE:FREQ=YEARLY;BYDAY=1SU;BYMONTH=11
TZNAME:EST
TZOFFSETFROM:-0400
TZOFFSETTO:-0500
END:STANDARD
BEGIN:DAYLIGHT
DTSTART:20250309T020000
RRULE:FREQ=YEARLY;BYDAY=2SU;BYMONTH=3
TZNAME:EDT
TZOFFSETFROM:-0500
TZOFFSETTO:-0400
END:DAYLIGHT
END:VTIMEZONE
BEGIN:VEVENT
DESCRIPTION:Over the past 6 years\, the US public health ecosystem has fac
 ed unprecedented demands. Today\, in the aftermath of the pandemic\, with
  sharply decreased public trust and seismic shifts to funding\, resilienc
 e will require a reinvigorated workforce and strong leadership. Using rea
 l-world examples\, we explore the challenges of making tough decisions in
  the moment\, when information is incomplete\, competing pressures are co
 nverging\, and stakeholders are all over the map. Reflecting on what we d
 id as a society will offer insight into what public health leaders need t
 o prepare for in the future. YSPH values inclusion and access for all par
 ticipants If you have questions about accessibility or would like to requ
 est an accommodation\, please contact Christina Ciarleglio at christina.c
 iarleglio@yale.edu\n\nSpeaker:\nMichael Choy\, PhD\n\nAdmission:\nFree\n\
 nDetails URL:\nhttps://medicine.yale.edu/event/emd-seminar-series-tba-35/
 \n
DTEND;TZID=America/New_York:20260415T130000
DTSTAMP:20260413T055933Z
DTSTART;TZID=America/New_York:20260415T120000
GEO:41.303666;-72.932218
LOCATION:Yale School of Public Health (LEPH)\, Winslow\, 60 College Street
 \, New Haven\, CT\, United States
SEQUENCE:0
STATUS:Confirmed
SUMMARY:EMD Seminar Series
UID:b944aa10-743e-458f-9cdc-c2428337ffcf
END:VEVENT
END:VCALENDAR
