BEGIN:VCALENDAR
PRODID:-//github.com/ical-org/ical.net//NONSGML ical.net 4.0//EN
VERSION:2.0
BEGIN:VTIMEZONE
TZID:America/New_York
X-LIC-LOCATION:America/New_York
BEGIN:STANDARD
DTSTART:20241103T020000
RRULE:FREQ=YEARLY;BYDAY=1SU;BYMONTH=11
TZNAME:EST
TZOFFSETFROM:-0400
TZOFFSETTO:-0500
END:STANDARD
BEGIN:DAYLIGHT
DTSTART:20250309T020000
RRULE:FREQ=YEARLY;BYDAY=2SU;BYMONTH=3
TZNAME:EDT
TZOFFSETFROM:-0500
TZOFFSETTO:-0400
END:DAYLIGHT
END:VTIMEZONE
BEGIN:VEVENT
DESCRIPTION:\nSpeaker:\nIbrahim Bani\n\nAdmission:\nFree\n\nDetails URL:\n
 https://medicine.yale.edu/event/ysphcde-526-seminar-in-chronic-disease-ep
 idemiology-324/\n
DTEND;TZID=America/New_York:20260324T130000
DTSTAMP:20260323T153716Z
DTSTART;TZID=America/New_York:20260324T120000
GEO:41.303666;-72.932218
LOCATION:Yale School of Public Health (LEPH)\, 115\, 60 College Street\, N
 ew Haven\, CT\, United States
SEQUENCE:0
STATUS:Confirmed
SUMMARY:YSPH/CDE 526 Seminar in Chronic Disease Epidemiology: "Complex Hum
 anitarian Emergencies: The Challenges of the Sudan Conflict"
UID:0e1ad17a-b79a-403f-b962-839afc50a6c9
END:VEVENT
END:VCALENDAR
