BEGIN:VCALENDAR
PRODID:-//github.com/ical-org/ical.net//NONSGML ical.net 4.0//EN
VERSION:2.0
BEGIN:VTIMEZONE
TZID:America/New_York
X-LIC-LOCATION:America/New_York
BEGIN:STANDARD
DTSTART:20241103T020000
RRULE:FREQ=YEARLY;BYDAY=1SU;BYMONTH=11
TZNAME:EST
TZOFFSETFROM:-0400
TZOFFSETTO:-0500
END:STANDARD
BEGIN:DAYLIGHT
DTSTART:20250309T020000
RRULE:FREQ=YEARLY;BYDAY=2SU;BYMONTH=3
TZNAME:EDT
TZOFFSETFROM:-0500
TZOFFSETTO:-0400
END:DAYLIGHT
END:VTIMEZONE
BEGIN:VEVENT
DESCRIPTION:War and Public Health: My Journey and What I’ve Learned Join u
 s for a Journey Lecture with Dr. Kaveh Khoshnood\, Associate Professor in
  the Department of Epidemiology of Microbial Diseases at the Yale School 
 of Public Health\, as he reflects on the experiences and turning points t
 hat shaped his work at the intersection of public health\, human rights\,
  and global justice. Drawing on a career that bridges epidemiology\, harm
  reduction\, and human rights advocacy\, from HIV research and drug polic
 y to work with communities affected by armed conflict and displacement\, 
 Dr. Khoshnood will share lessons about what public health can contribute 
 in complex global settings\, and how evidence\, values\, and solidarity c
 an help illuminate paths toward health and peace.\n\nAdmission:\nFree\n\n
 Food:\nSnacks\n\nDetails URL:\nhttps://medicine.yale.edu/event/journey-le
 cture-kaveh-khoshnood/\n
DTEND;TZID=America/New_York:20260325T160000
DTSTAMP:20260424T082153Z
DTSTART;TZID=America/New_York:20260325T150000
GEO:41.303666;-72.932218
LOCATION:Yale School of Public Health (LEPH)\, Winslow Auditorium\, 60 Col
 lege Street\, New Haven\, CT\, United States
SEQUENCE:0
STATUS:Confirmed
SUMMARY:Journey Lecture Kaveh Khoshnood
UID:e2d7c999-bd75-4528-8b8d-f35c2787c947
END:VEVENT
END:VCALENDAR
