BEGIN:VCALENDAR
PRODID:-//github.com/ical-org/ical.net//NONSGML ical.net 4.0//EN
VERSION:2.0
BEGIN:VTIMEZONE
TZID:America/New_York
X-LIC-LOCATION:America/New_York
BEGIN:STANDARD
DTSTART:20241103T020000
RRULE:FREQ=YEARLY;BYDAY=1SU;BYMONTH=11
TZNAME:EST
TZOFFSETFROM:-0400
TZOFFSETTO:-0500
END:STANDARD
BEGIN:DAYLIGHT
DTSTART:20250309T020000
RRULE:FREQ=YEARLY;BYDAY=2SU;BYMONTH=3
TZNAME:EDT
TZOFFSETFROM:-0500
TZOFFSETTO:-0400
END:DAYLIGHT
END:VTIMEZONE
BEGIN:VEVENT
DESCRIPTION:Yale School of Public Health- Environmental Health Sciences Se
 minar Title: The ScAInce of Toxicology Speaker: Thomas Hartung\, PhD\, Pr
 ofessor of Environmental Health and Engineering\, Johns Hopkins Bloomberg
  School of Public Health\, Whiting School of Engineering NOTE: EHS 525 st
 udents are required to attend in person. Others are invited to attend in 
 person\, but may also attend via Zoom. Join URL: https://yale.zoom.us/j/9
 2794219807 )\n\nSpeaker:\nThomas Hartung\, PhD \n\nAdmission:\nFree\n\nFo
 od:\nLunch: Lunch will be provided. \n\nDetails URL:\nhttps://medicine.ya
 le.edu/event/ysphehs-superfund-research-center-seminar-the-scaince-of-tox
 icology/\n
DTEND;TZID=America/New_York:20260422T125000
DTSTAMP:20260415T022220Z
DTSTART;TZID=America/New_York:20260422T120000
LOCATION:URL: https://yale.zoom.us/j/92794219807)
SEQUENCE:0
STATUS:Confirmed
SUMMARY:YSPH/EHS SUPERFUND RESEARCH CENTER Seminar: The ScAInce of Toxicol
 ogy
UID:e01a1b5b-fd15-485c-9c0e-f30778354b84
END:VEVENT
END:VCALENDAR
