BEGIN:VCALENDAR
PRODID:-//github.com/ical-org/ical.net//NONSGML ical.net 4.0//EN
VERSION:2.0
BEGIN:VTIMEZONE
TZID:America/New_York
X-LIC-LOCATION:America/New_York
BEGIN:STANDARD
DTSTART:20241103T020000
RRULE:FREQ=YEARLY;BYDAY=1SU;BYMONTH=11
TZNAME:EST
TZOFFSETFROM:-0400
TZOFFSETTO:-0500
END:STANDARD
BEGIN:DAYLIGHT
DTSTART:20250309T020000
RRULE:FREQ=YEARLY;BYDAY=2SU;BYMONTH=3
TZNAME:EDT
TZOFFSETFROM:-0500
TZOFFSETTO:-0400
END:DAYLIGHT
END:VTIMEZONE
BEGIN:VEVENT
DESCRIPTION:Yale School of Public Health - Environmental Health Sciences S
 eminar NOTE: EHS 525 students are required to attend in person\, while ot
 hers are invited to join either in person or may also attend via Zoom. Sp
 eaker: Rebecca Fry\, PhD - Professor and Chair\, Environmental Sciences a
 nd Engineering- University of North Carolina at Chapel Hill Title: "Ident
 ifying Solutions to Wicked Environmental Problems "\n\nSpeaker:\nRebecca 
 Fry\, PhD \n\nAdmission:\nFree\n\nFood:\nLunch will be provided. \n\nDeta
 ils URL:\nhttps://medicine.yale.edu/event/ysphehs-superfund-research-cent
 er-seminar-identifyingolutionstoickednvironmentalroblems/\n
DTEND;TZID=America/New_York:20260408T125000
DTSTAMP:20260409T224907Z
DTSTART;TZID=America/New_York:20260408T120000
GEO:41.303666;-72.932218
LOCATION:Yale School of Public Health (LEPH)\, 101\, 60 College Street\, N
 ew Haven\, CT\, United States
SEQUENCE:0
STATUS:Confirmed
SUMMARY:YSPH/EHS - SUPERFUND RESEARCH CENTER Seminar: Identifying Solution
 s to Wicked Environmental Problems"
UID:d574e41f-dd40-42a9-9792-2fca00d25254
END:VEVENT
END:VCALENDAR
