BEGIN:VCALENDAR
PRODID:-//github.com/ical-org/ical.net//NONSGML ical.net 4.0//EN
VERSION:2.0
BEGIN:VTIMEZONE
TZID:America/New_York
X-LIC-LOCATION:America/New_York
BEGIN:STANDARD
DTSTART:20241103T020000
RRULE:FREQ=YEARLY;BYDAY=1SU;BYMONTH=11
TZNAME:EST
TZOFFSETFROM:-0400
TZOFFSETTO:-0500
END:STANDARD
BEGIN:DAYLIGHT
DTSTART:20250309T020000
RRULE:FREQ=YEARLY;BYDAY=2SU;BYMONTH=3
TZNAME:EDT
TZOFFSETFROM:-0500
TZOFFSETTO:-0400
END:DAYLIGHT
END:VTIMEZONE
BEGIN:VEVENT
DESCRIPTION:Save the Date! Register here. Join us for a one-day conference
  honoring Dr. Donna Spiegelman’s impactful career in biostatistics\, epid
 emiology\, public health\, and implementation science. Dr. Spiegelman has
  led research on preventing cervical cancer\, cardiometabolic risks\, and
  HIV/AIDS across several countries. Her work focuses on reducing bias in 
 epidemiologic research\, advancing measurement error methods\, and innova
 ting quantitative implementation science. The event will feature experts 
 in biostatistics and epidemiology\, causal inference\, implementation sci
 ence\, and measurement error methods.\n\nSpeakers:\nJudith Lok\; Francine
  Laden\; Fan Li\; Melody Owen\; James Robins\; Bernard Rosner\; Archana S
 hrestha\; Wenze Tang\; Sten Vermund\; Molin Wang\; Grace Yi\; Xin Zhou\n\
 nAdmission:\nRegistrationFees\n\nFood:\nLunch\n\nDetails URL:\nhttps://me
 dicine.yale.edu/event/dr-spiegelmans-birthday-symposium/\n
DTEND;TZID=America/New_York;VALUE=DATE:20251004
DTSTAMP:20260424T015356Z
DTSTART;TZID=America/New_York;VALUE=DATE:20251003
GEO:41.303666;-72.932218
LOCATION:Yale School of Public Health (LEPH)\, 109\, 60 College Street\, N
 ew Haven\, CT\, United States
SEQUENCE:0
STATUS:Confirmed
SUMMARY:Dr. Spiegelman's Symposium
UID:4da10648-131d-4e4b-a1e5-88a77904ee08
END:VEVENT
END:VCALENDAR
