BEGIN:VCALENDAR
PRODID:-//github.com/ical-org/ical.net//NONSGML ical.net 4.0//EN
VERSION:2.0
BEGIN:VTIMEZONE
TZID:America/New_York
X-LIC-LOCATION:America/New_York
BEGIN:STANDARD
DTSTART:20241103T020000
RRULE:FREQ=YEARLY;BYDAY=1SU;BYMONTH=11
TZNAME:EST
TZOFFSETFROM:-0400
TZOFFSETTO:-0500
END:STANDARD
BEGIN:DAYLIGHT
DTSTART:20250309T020000
RRULE:FREQ=YEARLY;BYDAY=2SU;BYMONTH=3
TZNAME:EDT
TZOFFSETFROM:-0500
TZOFFSETTO:-0400
END:DAYLIGHT
END:VTIMEZONE
BEGIN:VEVENT
DESCRIPTION:\nSpeakers:\nYusuf Ransome\; Debbie Humphries\; Sandra Springe
 r\; Tashuna Albritton\; Yihan Shi\; S. Raquel Ramos\; Henry Luan\n\nAdmis
 sion:\nFree\n\nDetails URL:\nhttps://medicine.yale.edu/event/ciras-dism-c
 ore-and-r3edi-hub-webinar/\n
DTEND;TZID=America/New_York:20250408T150000
DTSTAMP:20260325T034919Z
DTSTART;TZID=America/New_York:20250408T140000
LOCATION:URL: https://yale.zoom.us/j/96978968736
SEQUENCE:0
STATUS:Confirmed
SUMMARY:CIRA's DISM Core & R3EDI Hub Webinar: "NIH Ending the HIV epidemic
  in the US initiative awards: experiences from Yale’s HIV implementation 
 science projects"
UID:60d485a7-c949-4da9-9920-35ad96f86800
END:VEVENT
END:VCALENDAR
