BEGIN:VCALENDAR
PRODID:-//github.com/ical-org/ical.net//NONSGML ical.net 4.0//EN
VERSION:2.0
BEGIN:VTIMEZONE
TZID:America/New_York
X-LIC-LOCATION:America/New_York
BEGIN:STANDARD
DTSTART:20241103T020000
RRULE:FREQ=YEARLY;BYDAY=1SU;BYMONTH=11
TZNAME:EST
TZOFFSETFROM:-0400
TZOFFSETTO:-0500
END:STANDARD
BEGIN:DAYLIGHT
DTSTART:20250309T020000
RRULE:FREQ=YEARLY;BYDAY=2SU;BYMONTH=3
TZNAME:EDT
TZOFFSETFROM:-0500
TZOFFSETTO:-0400
END:DAYLIGHT
END:VTIMEZONE
BEGIN:VEVENT
DESCRIPTION:You are invited to join us on Friday\, October 20 at 12 pm EST
  for a Center for Methods in Implementation and Prevention Science (CMIPS
 ) seminar by Brigid Cakouros\, DrPh\, MPH. \, Professor\, Postdoctoral As
 sociate at Yale School of Medicine\, Yale University. The title of her ta
 lk is “Using Qualitative Thematic Analysis to Explore Financial Donor and
  Recipient Collaboration in Liberia.” Dr. Brigid Cakouros is a public hea
 lth practitioner who uses mixed-method approaches to study complex system
 s. In this study in Liberia\, she and her team conducted a qualitative an
 alysis of how donors and recipients of global health funding discuss what
  collaboration looks like within this landscape.\n\nAdmission:\nFree\n\nF
 ood:\nLunch: Boxed Lunch will be served for all participants that R.S.V.P
  to Alane.Kelly@Yale.edu\n\nDetails URL:\nhttps://medicine.yale.edu/event
 /using-qualitative-thematic-analysis/\n
DTEND;TZID=America/New_York:20231020T130000
DTSTAMP:20260401T221746Z
DTSTART;TZID=America/New_York:20231020T120000
LOCATION:For Zoom link: Email alane.kelly@yale.edu
SEQUENCE:0
STATUS:Confirmed
SUMMARY:Using Qualitative Thematic Analysis to Explore Financial Donor and
  Recipient Collaboration in Liberia
UID:281def00-337d-4e8d-907d-e46d50be81d2
END:VEVENT
END:VCALENDAR
