BEGIN:VCALENDAR
PRODID:-//github.com/ical-org/ical.net//NONSGML ical.net 4.0//EN
VERSION:2.0
BEGIN:VTIMEZONE
TZID:America/New_York
X-LIC-LOCATION:America/New_York
BEGIN:STANDARD
DTSTART:20241103T020000
RRULE:FREQ=YEARLY;BYDAY=1SU;BYMONTH=11
TZNAME:EST
TZOFFSETFROM:-0400
TZOFFSETTO:-0500
END:STANDARD
BEGIN:DAYLIGHT
DTSTART:20250309T020000
RRULE:FREQ=YEARLY;BYDAY=2SU;BYMONTH=3
TZNAME:EDT
TZOFFSETFROM:-0500
TZOFFSETTO:-0400
END:DAYLIGHT
END:VTIMEZONE
BEGIN:VEVENT
DESCRIPTION:http://wnpr.org/programs/yale-cancer-answers For additional in
 formation and direction about your diagnosis and/or treatment options\, p
 lease call 1-855-4-SMILOW.\n\nAdmission:\nFree\n\nDetails URL:\nhttps://m
 edicine.yale.edu/event/yale-cancer-answers-420/\n
DTEND;TZID=America/New_York:20260111T200000
DTSTAMP:20260421T022031Z
DTSTART;TZID=America/New_York:20260111T193000
LOCATION:WNPR 90.5
SEQUENCE:0
STATUS:Confirmed
SUMMARY:Yale Cancer Answers
UID:63fbf35a-f32a-4d31-bb65-3c51de6adb7e
END:VEVENT
END:VCALENDAR
