BEGIN:VCALENDAR
PRODID:-//github.com/ical-org/ical.net//NONSGML ical.net 4.0//EN
VERSION:2.0
BEGIN:VTIMEZONE
TZID:America/New_York
X-LIC-LOCATION:America/New_York
BEGIN:STANDARD
DTSTART:20241103T020000
RRULE:FREQ=YEARLY;BYDAY=1SU;BYMONTH=11
TZNAME:EST
TZOFFSETFROM:-0400
TZOFFSETTO:-0500
END:STANDARD
BEGIN:DAYLIGHT
DTSTART:20250309T020000
RRULE:FREQ=YEARLY;BYDAY=2SU;BYMONTH=3
TZNAME:EDT
TZOFFSETFROM:-0500
TZOFFSETTO:-0400
END:DAYLIGHT
END:VTIMEZONE
BEGIN:VEVENT
DESCRIPTION:This seminar will focus on the nuts and bolts of undertaking l
 ongitudinal qualitative implementation research\, drawing examples from a
  community-engaged\, mixed-method\, cluster-randomized controlled trial f
 ocused on enabling the use of evidence-informed practices to improve the 
 well-being of sexually and gender-diverse students in New Mexico high sch
 ools. It will provide insight into the nuances of collecting and leveragi
 ng qualitative data from a variety of sources (e.g.\, interviews\, focus 
 groups\, periodic reflections)\; coding\, analytic\, and triangulation st
 rategies\; and ensuring the credibility and trustworthiness of research f
 indings. Finally\, this seminar will highlight how nimbleness in qualitat
 ive implementation research makes it possible to pivot to emergent issues
  occurring in the field and interpret results in relation to conceptual f
 rameworks and theories not previously considered.\n\nAdmission:\nFree\n\n
 Details URL:\nhttps://medicine.yale.edu/event/cmips-seminar-presented-by-
 cathleen-willging/\n
DTEND;TZID=America/New_York:20230414T130000
DTSTAMP:20260424T011926Z
DTSTART;TZID=America/New_York:20230414T120000
LOCATION:In-Person and via zoom (details to follow)
SEQUENCE:0
STATUS:Confirmed
SUMMARY:Center for Methods in Implementation and Prevention Science (CMIPS
 ) Seminar presented by Cathleen Willging\, Ph.D: “Averting Methodological
  and Analytic Mayhem in Qualitative Implementation Research”
UID:4647608b-6168-42a7-89eb-21d070f73bd2
END:VEVENT
END:VCALENDAR
