BEGIN:VCALENDAR
PRODID:-//github.com/ical-org/ical.net//NONSGML ical.net 4.0//EN
VERSION:2.0
BEGIN:VTIMEZONE
TZID:America/New_York
X-LIC-LOCATION:America/New_York
BEGIN:STANDARD
DTSTART:20241103T020000
RRULE:FREQ=YEARLY;BYDAY=1SU;BYMONTH=11
TZNAME:EST
TZOFFSETFROM:-0400
TZOFFSETTO:-0500
END:STANDARD
BEGIN:DAYLIGHT
DTSTART:20250309T020000
RRULE:FREQ=YEARLY;BYDAY=2SU;BYMONTH=3
TZNAME:EDT
TZOFFSETFROM:-0500
TZOFFSETTO:-0400
END:DAYLIGHT
END:VTIMEZONE
BEGIN:VEVENT
DESCRIPTION:About the Event The 5th International Conference on Alcohol an
 d Cancer (ICAC) builds on the success of previous meetings\, bringing tog
 ether leading scientists\, clinicians\, and public health experts from ar
 ound the world to examine the growing body of evidence linking alcohol co
 nsumption to cancer. The conference will address alcohol-associated cance
 rs including\, but not limited to\, esophageal\, laryngeal\, lung\, breas
 t\, and colorectal cancers. Alcohol consumption is estimated to contribut
 e to more than 740\,000 new cancer cases annually worldwide \, accounting
  for approximately 4% of all global cancer diagnoses . Against this backd
 rop\, ICAC serves as a critical platform for presenting cutting-edge basi
 c\, translational\, and clinical research\; fostering interdisciplinary c
 ollaborations\; and engaging early-career investigators and students. The
  conference emphasizes knowledge exchange\, innovative research direction
 s\, and the translation of scientific discoveries into prevention and int
 ervention strategies. Through plenary lectures\, thematic sessions\, and 
 interactive discussions\, ICAC aims to advance understanding of the mecha
 nisms\, risk factors\, and public health implications of alcohol-related 
 cancers. Sessions: Epidemiology and Public Health Exposome\, Alcohol and 
 Cancer Artificial Intelligence and Data Science Molecular Mechanisms of A
 lcohol-Induced Carcinogenesis Stem Cells and Genomic Instability Interpla
 y Between Alcohol\, HIV\, Oncogenic Viruses\, and Carcinogenesis Alcohol 
 and Cancer (Colon\, Liver\, Pancreatic\, Breast\, and Aerodigestive Cance
 rs) Inflammation\, Microbiome and Nutrition Developmental and Lifespan Pe
 rspectives Socioeconomic and Cultural Factors Prevention and Intervention
  Strategies Location Thermae Sylla Hotel\, Aidipsos\, Greece Please visit
  our website to learn more →\n\nSpeaker:\nVasilis Vasiliou\n\nAdmission:\
 nFree\n\nDetails URL:\nhttps://medicine.yale.edu/event/fifth-internationa
 l-conference-on-alcohol-and-cancer/\n
DTEND;TZID=America/New_York;VALUE=DATE:20260515
DTSTAMP:20260422T003843Z
DTSTART;TZID=America/New_York;VALUE=DATE:20260510
GEO:38.861252;23.043067
LOCATION:Central Greece\, Greece
SEQUENCE:0
STATUS:Confirmed
SUMMARY:Fifth International Conference on Alcohol & Cancer
UID:fd88a6db-7d46-4cb7-96cd-4e8ce3ea7c48
END:VEVENT
END:VCALENDAR
