BEGIN:VCALENDAR
PRODID:-//github.com/ical-org/ical.net//NONSGML ical.net 4.0//EN
VERSION:2.0
BEGIN:VTIMEZONE
TZID:America/New_York
X-LIC-LOCATION:America/New_York
BEGIN:STANDARD
DTSTART:20241103T020000
RRULE:FREQ=YEARLY;BYDAY=1SU;BYMONTH=11
TZNAME:EST
TZOFFSETFROM:-0400
TZOFFSETTO:-0500
END:STANDARD
BEGIN:DAYLIGHT
DTSTART:20250309T020000
RRULE:FREQ=YEARLY;BYDAY=2SU;BYMONTH=3
TZNAME:EDT
TZOFFSETFROM:-0500
TZOFFSETTO:-0400
END:DAYLIGHT
END:VTIMEZONE
BEGIN:VEVENT
DESCRIPTION:Yale PCCSM Grand Rounds is a weekly conference focused on educ
 ating physicians\, nurses\, researchers\, students\, and others about the
  field of pulmonary and critical care medicine.\n\nSpeaker:\nAshley Losie
 r\n\nAdmission:\nFree\n\nDetails URL:\nhttps://medicine.yale.edu/event/ya
 le-pulmonary-critical-care-and-sleep-medicine-20/\n
DTEND;TZID=America/New_York:20260114T160000
DTSTAMP:20260422T014143Z
DTSTART;TZID=America/New_York:20260114T150000
GEO:41.302774;-72.935109
LOCATION:Fitkin Memorial Pavilion Auditorium\, 789 Howard Avenue\, New Hav
 en\, CT\, United States
SEQUENCE:0
STATUS:Confirmed
SUMMARY:Yale Pulmonary\, Critical Care & Sleep Medicine Grand Rounds
UID:572c3bfc-5bdf-45a8-8dac-04e26cc9fdc6
END:VEVENT
END:VCALENDAR
