BEGIN:VCALENDAR
PRODID:-//github.com/ical-org/ical.net//NONSGML ical.net 4.0//EN
VERSION:2.0
BEGIN:VTIMEZONE
TZID:America/New_York
X-LIC-LOCATION:America/New_York
BEGIN:STANDARD
DTSTART:20241103T020000
RRULE:FREQ=YEARLY;BYDAY=1SU;BYMONTH=11
TZNAME:EST
TZOFFSETFROM:-0400
TZOFFSETTO:-0500
END:STANDARD
BEGIN:DAYLIGHT
DTSTART:20250309T020000
RRULE:FREQ=YEARLY;BYDAY=2SU;BYMONTH=3
TZNAME:EDT
TZOFFSETFROM:-0500
TZOFFSETTO:-0400
END:DAYLIGHT
END:VTIMEZONE
BEGIN:VEVENT
DESCRIPTION:\nSpeaker:\nDaniel Weinberger\n\nAdmission:\nFree\n\nFood:\nLu
 nch: Lunch is served prior to the conference\, starting at 11:50AM.\n\nDe
 tails URL:\nhttps://medicine.yale.edu/event/pccsm-weekly-research-confere
 nce-2/\n
DTEND;TZID=America/New_York:20260129T130000
DTSTAMP:20260415T152502Z
DTSTART;TZID=America/New_York:20260129T120000
LOCATION:URL: https://yalepccsm.com/PRC
SEQUENCE:0
STATUS:Confirmed
SUMMARY:PCCSM Research Conference
UID:e189d035-e098-41d3-ae9b-7f32f48c188f
END:VEVENT
END:VCALENDAR
