BEGIN:VCALENDAR
PRODID:-//github.com/ical-org/ical.net//NONSGML ical.net 4.0//EN
VERSION:2.0
BEGIN:VTIMEZONE
TZID:America/New_York
X-LIC-LOCATION:America/New_York
BEGIN:STANDARD
DTSTART:20241103T020000
RRULE:FREQ=YEARLY;BYDAY=1SU;BYMONTH=11
TZNAME:EST
TZOFFSETFROM:-0400
TZOFFSETTO:-0500
END:STANDARD
BEGIN:DAYLIGHT
DTSTART:20250309T020000
RRULE:FREQ=YEARLY;BYDAY=2SU;BYMONTH=3
TZNAME:EDT
TZOFFSETFROM:-0500
TZOFFSETTO:-0400
END:DAYLIGHT
END:VTIMEZONE
BEGIN:VEVENT
DESCRIPTION:The 2026 Yale Forum on Climate Change and Health is a full - d
 ay convening \, hosted by the Yale Center on Climate Change and Health\, 
 that brings together leading researchers\, clinicians\, and policy expert
 s to strengthen transdisciplinary collaboration at Yale and beyond. At a 
 moment when the U.S. political landscape has grown increasingly challengi
 ng for climate science and health research\, the Forum will showcase the 
 latest research on climate change and health and foster constructive dial
 ogue on policy and strategy to protect public health from climate impacts
 . Through focused panel discussions\, participants will explore emerging 
 research \, methodological advances \, and policy-relevant evidence to pr
 otect public health and advance equitable climate adaptation. See the Eve
 ntbrite page for more information and registration. This event is support
 ed by the Yale Institution for Social and Policy Studies.\n\nSpeakers:\nP
 atrick Kinney\, ScD\; Marianthi-Anna Kioumourtzoglou\, ScD\; Darby Jack\,
  PhD\; Jaime Madrigano\, ScD\, MPH\; Daniel Tong\, PhD\; Perry Sheffield\
 , MD\, MPH\; Minghao Qiu\, PhD\; Sara Adar\, ScD\, MHS\; Arnab K. Ghosh\,
  MD\, MSc\, MA\; Gaige Kerr\, PhD\, MA\; Sara Smiley Smith\; Kai Chen\; R
 obert Dubrow\n\nAdmission:\nFree\n\nFood:\n\n\nDetails URL:\nhttps://medi
 cine.yale.edu/event/2026-climate-and-health-forum/\n
DTEND;TZID=America/New_York:20260225T160000
DTSTAMP:20260422T060322Z
DTSTART;TZID=America/New_York:20260225T083000
GEO:41.311139;-72.928898
LOCATION:Sterling Memorial Library\, Lecture Hall and Memorabilia Room\, 1
 20 High Street\, New Haven\, CT\, United States
SEQUENCE:0
STATUS:Confirmed
SUMMARY:The 2026 Yale Forum on Climate Change and Health
UID:669bda2b-f42e-40f7-9703-dc5aace87db4
END:VEVENT
END:VCALENDAR
